BEGIN:VCALENDAR
VERSION:2.0
PRODID:-//Stichting Wehl - ECPv6.15.18//NONSGML v1.0//EN
CALSCALE:GREGORIAN
METHOD:PUBLISH
X-ORIGINAL-URL:https://www.stichtingwehl.nl
X-WR-CALDESC:Evenementen voor Stichting Wehl
REFRESH-INTERVAL;VALUE=DURATION:PT1H
X-Robots-Tag:noindex
X-PUBLISHED-TTL:PT1H
BEGIN:VTIMEZONE
TZID:Europe/Amsterdam
BEGIN:DAYLIGHT
TZOFFSETFROM:+0100
TZOFFSETTO:+0200
TZNAME:CEST
DTSTART:20250330T010000
END:DAYLIGHT
BEGIN:STANDARD
TZOFFSETFROM:+0200
TZOFFSETTO:+0100
TZNAME:CET
DTSTART:20251026T010000
END:STANDARD
BEGIN:DAYLIGHT
TZOFFSETFROM:+0100
TZOFFSETTO:+0200
TZNAME:CEST
DTSTART:20260329T010000
END:DAYLIGHT
BEGIN:STANDARD
TZOFFSETFROM:+0200
TZOFFSETTO:+0100
TZNAME:CET
DTSTART:20261025T010000
END:STANDARD
BEGIN:DAYLIGHT
TZOFFSETFROM:+0100
TZOFFSETTO:+0200
TZNAME:CEST
DTSTART:20270328T010000
END:DAYLIGHT
BEGIN:STANDARD
TZOFFSETFROM:+0200
TZOFFSETTO:+0100
TZNAME:CET
DTSTART:20271031T010000
END:STANDARD
END:VTIMEZONE
BEGIN:VEVENT
DTSTART;VALUE=DATE:20260603
DTEND;VALUE=DATE:20260608
DTSTAMP:20260421T205330
CREATED:20251219T125558Z
LAST-MODIFIED:20260111T175155Z
UID:3930-1780444800-1780876799@www.stichtingwehl.nl
SUMMARY:Dorpsfeest Wehl
DESCRIPTION:Dorpsfeest Wehl: vijf dagen feest\, een ervaring om nooit meer te vergeten! \nBekijk de website van Dorpfeest Wehl voor meer informatie: www.dorpsfeestwehl.nl
URL:https://www.stichtingwehl.nl/evenement/dorspfeest-wehl/
LOCATION:Feestterrein Wehl\, Diepenbroekstraat\, Wehl\, Gelderland\, 7031\, Netherlands
CATEGORIES:Dorpsfeest Wehl
ATTACH;FMTTYPE=image/jpeg:https://www.stichtingwehl.nl/wp-content/uploads/2025/12/uitgelichtDorpsfeest-scaled.jpg
END:VEVENT
BEGIN:VEVENT
DTSTART;VALUE=DATE:20260627
DTEND;VALUE=DATE:20260629
DTSTAMP:20260421T205330
CREATED:20251222T215626Z
LAST-MODIFIED:20260122T083259Z
UID:4049-1782518400-1782691199@www.stichtingwehl.nl
SUMMARY:Cultuurroute
DESCRIPTION:Op 27 en 28 juni 2026 zijn er in Wehl en Nieuw-Wehl vele cultuurvormen te bewonderen\,\nzoals: Beeldende kunst\, schilderkunst\, fotografie\, animatie\, modeontwerpen\, dans\, theater\,\ntoneel\, muziek (van klassiek tot pop)\, literatuur en nog veel meer…\nBen jij creatief\, muzikaal\, wil je voordragen uit eigen werk\, wil je een workshop geven\, of\nheb je een geschikte locatie die je beschikbaar zou willen stellen? Denk je: “dit is wellicht iets\nvoor mij?” \nJe kunt tot je tot eind april opgeven. Neem contact op met ons op. \nSandy van Dillen 06-48408975\nWendy de Vrught 06-11397311\nLudo Schennink 06-42907477\nRob van Dillen 06-8170391
URL:https://www.stichtingwehl.nl/evenement/cultuurroute/
LOCATION:Wehl\, Gelderland\, 7031\, Netherlands
ATTACH;FMTTYPE=image/jpeg:https://www.stichtingwehl.nl/wp-content/uploads/2025/12/uitgelichtCultuurroute-scaled.jpg
ORGANIZER;CN="Stichting Wehl":MAILTO:bestuur@stichtingwehl.nl
END:VEVENT
BEGIN:VEVENT
DTSTART;VALUE=DATE:20260920
DTEND;VALUE=DATE:20260921
DTSTAMP:20260421T205330
CREATED:20251222T215727Z
LAST-MODIFIED:20260103T215541Z
UID:4051-1789862400-1789948799@www.stichtingwehl.nl
SUMMARY:Rondje om de kerk
DESCRIPTION:In september toveren we het kerkplein van de St. Martinuskerk weer om tot een gratis minifestival. Geniet van diverse live muziek\, een hapje en een drankje. Een laagdrempelig en sfeervol evenement in het hart van Wehl.
URL:https://www.stichtingwehl.nl/evenement/rondje-om-de-kerk/
LOCATION:Wehl\, Gelderland\, 7031\, Netherlands
ATTACH;FMTTYPE=image/jpeg:https://www.stichtingwehl.nl/wp-content/uploads/2025/12/uitgelichtRODK-scaled.jpg
ORGANIZER;CN="Stichting Wehl":MAILTO:bestuur@stichtingwehl.nl
END:VEVENT
BEGIN:VEVENT
DTSTART;TZID=Europe/Amsterdam:20261025T140000
DTEND;TZID=Europe/Amsterdam:20261025T200000
DTSTAMP:20260421T205330
CREATED:20251222T215852Z
LAST-MODIFIED:20260103T132101Z
UID:4053-1792936800-1792958400@www.stichtingwehl.nl
SUMMARY:Wehlse Bokkendag
DESCRIPTION:De herfst vieren we samen! In samenwerking met de Wehlse horeca organiseren we de Wehlse Bokkendag. Proef de lekkerste bokbieren terwijl je geniet van fijne muziek. Gratis toegang en gezelligheid gegarandeerd.
URL:https://www.stichtingwehl.nl/evenement/wehlse-bokkendag/
LOCATION:Wehl\, Gelderland\, 7031\, Netherlands
ATTACH;FMTTYPE=image/jpeg:https://www.stichtingwehl.nl/wp-content/uploads/2025/12/uitgelichtBokkendag-scaled.jpg
ORGANIZER;CN="Stichting Wehl":MAILTO:bestuur@stichtingwehl.nl
END:VEVENT
END:VCALENDAR