BEGIN:VCALENDAR
VERSION:2.0
PRODID:-//Stichting Wehl - ECPv6.15.18//NONSGML v1.0//EN
CALSCALE:GREGORIAN
METHOD:PUBLISH
X-ORIGINAL-URL:https://www.stichtingwehl.nl
X-WR-CALDESC:Evenementen voor Stichting Wehl
REFRESH-INTERVAL;VALUE=DURATION:PT1H
X-Robots-Tag:noindex
X-PUBLISHED-TTL:PT1H
BEGIN:VTIMEZONE
TZID:Europe/Amsterdam
BEGIN:DAYLIGHT
TZOFFSETFROM:+0100
TZOFFSETTO:+0200
TZNAME:CEST
DTSTART:20250330T010000
END:DAYLIGHT
BEGIN:STANDARD
TZOFFSETFROM:+0200
TZOFFSETTO:+0100
TZNAME:CET
DTSTART:20251026T010000
END:STANDARD
BEGIN:DAYLIGHT
TZOFFSETFROM:+0100
TZOFFSETTO:+0200
TZNAME:CEST
DTSTART:20260329T010000
END:DAYLIGHT
BEGIN:STANDARD
TZOFFSETFROM:+0200
TZOFFSETTO:+0100
TZNAME:CET
DTSTART:20261025T010000
END:STANDARD
BEGIN:DAYLIGHT
TZOFFSETFROM:+0100
TZOFFSETTO:+0200
TZNAME:CEST
DTSTART:20270328T010000
END:DAYLIGHT
BEGIN:STANDARD
TZOFFSETFROM:+0200
TZOFFSETTO:+0100
TZNAME:CET
DTSTART:20271031T010000
END:STANDARD
END:VTIMEZONE
BEGIN:VEVENT
DTSTART;TZID=Europe/Amsterdam:20260111T140000
DTEND;TZID=Europe/Amsterdam:20260111T170000
DTSTAMP:20260421T153724
CREATED:20251222T214602Z
LAST-MODIFIED:20260104T103042Z
UID:4041-1768140000-1768150800@www.stichtingwehl.nl
SUMMARY:Nieuwjaarsbijeenkomst
DESCRIPTION:Het nieuwe jaar samen beginnen? Dat doen we in Wehl en Nieuw Wehl! \n\n\nOp zondag 11 januari 2026 ben je van harte welkom bij de Nieuwjaarsbijeenkomst in Lokaal 1816.\n\nEen gezellige middag om elkaar te ontmoeten\, bij te praten en samen te proosten op 2026. \n\n\n\n Zondag 11 januari 2026\n 14.00 – 17.00 uur\n Lokaal 1816\, Kon. Wilhelminastraat 12\, Wehl\n\n\nVoor inwoners\, verenigingen\, ondernemers en iedereen die Wehl en Nieuw Wehl een warm hart toedraagt.\n\n\nDelen mag\, meenemen van buren en bekenden zeker! \n\n\nNamens:\nDorpsraad Wehl\, Stichting Evenementen Wehl\,\nWehlse Ondernemers Vereniging\, Stichting Beheer de Horst en Stichting Sport & Recreatie Wehl.
URL:https://www.stichtingwehl.nl/evenement/nieuwjaarsbijeenkomst/
LOCATION:Koningin Beatrixcentrum KBC Wehl – LOKAAL 1816\, Koningin Wilhelminastraat 12\, Wehl\, Gelderland\, 7031 AC\, Netherlands
ATTACH;FMTTYPE=image/jpeg:https://www.stichtingwehl.nl/wp-content/uploads/2025/12/uitgelichtNieuwjaarsbijeenkomst-scaled.jpg
ORGANIZER;CN="Stichting Wehl":MAILTO:bestuur@stichtingwehl.nl
END:VEVENT
END:VCALENDAR