BEGIN:VCALENDAR
VERSION:2.0
PRODID:-//Stichting Wehl - ECPv6.15.18//NONSGML v1.0//EN
CALSCALE:GREGORIAN
METHOD:PUBLISH
X-WR-CALNAME:Stichting Wehl
X-ORIGINAL-URL:https://www.stichtingwehl.nl
X-WR-CALDESC:Evenementen voor Stichting Wehl
REFRESH-INTERVAL;VALUE=DURATION:PT1H
X-Robots-Tag:noindex
X-PUBLISHED-TTL:PT1H
BEGIN:VTIMEZONE
TZID:Europe/Amsterdam
BEGIN:DAYLIGHT
TZOFFSETFROM:+0100
TZOFFSETTO:+0200
TZNAME:CEST
DTSTART:20250330T010000
END:DAYLIGHT
BEGIN:STANDARD
TZOFFSETFROM:+0200
TZOFFSETTO:+0100
TZNAME:CET
DTSTART:20251026T010000
END:STANDARD
BEGIN:DAYLIGHT
TZOFFSETFROM:+0100
TZOFFSETTO:+0200
TZNAME:CEST
DTSTART:20260329T010000
END:DAYLIGHT
BEGIN:STANDARD
TZOFFSETFROM:+0200
TZOFFSETTO:+0100
TZNAME:CET
DTSTART:20261025T010000
END:STANDARD
BEGIN:DAYLIGHT
TZOFFSETFROM:+0100
TZOFFSETTO:+0200
TZNAME:CEST
DTSTART:20270328T010000
END:DAYLIGHT
BEGIN:STANDARD
TZOFFSETFROM:+0200
TZOFFSETTO:+0100
TZNAME:CET
DTSTART:20271031T010000
END:STANDARD
END:VTIMEZONE
BEGIN:VEVENT
DTSTART;VALUE=DATE:20260518
DTEND;VALUE=DATE:20260523
DTSTAMP:20260421T232032
CREATED:20251222T215256Z
LAST-MODIFIED:20260118T155620Z
UID:4046-1779062400-1779494399@www.stichtingwehl.nl
SUMMARY:Wehlse Wandel4daagse
DESCRIPTION:Trek de wandelschoenen maar aan! 18\, 19\, 21 en 22 mei; Vier avonden lang genieten we van de prachtige omgeving van Wehl en Nieuw Wehl tijdens de Wandel4daagse. Jong en oud lopen mee voor die felbegeerde medaille.
URL:https://www.stichtingwehl.nl/evenement/wehlse-wandel4daagse/
LOCATION:Wehl\, Gelderland\, 7031\, Netherlands
ATTACH;FMTTYPE=image/jpeg:https://www.stichtingwehl.nl/wp-content/uploads/2025/12/uitgelicht4daagse-scaled.jpg
ORGANIZER;CN="Stichting Wehl":MAILTO:bestuur@stichtingwehl.nl
END:VEVENT
BEGIN:VEVENT
DTSTART;VALUE=DATE:20260427
DTEND;VALUE=DATE:20260428
DTSTAMP:20260421T232032
CREATED:20251222T215137Z
LAST-MODIFIED:20260420T194250Z
UID:4043-1777248000-1777334399@www.stichtingwehl.nl
SUMMARY:Koningsdag
DESCRIPTION:Wehl kleurt oranje! Op Koningsdag pakken we uit met oer-Hollandse gezelligheid voor jong en oud. Struin over de vrijmarkt\, doe mee aan de spelletjes of geniet simpelweg van de feestelijke sfeer en muziek in ons dorp. Een dag vol verbroedering en plezier. \nAlgemene info\nLocatie: Raadhuisplein\, Koningin Wilhelminastraat Wehl\nTijden: 10:00 – 20:00 uur\nToegang: gratis \nOchtendprogramma\n09.00 – 09.50 uur     Aanmelden voor vrijmarkt + opbouw/inrichting van de kramen\n10.00 – 13.00 uur     Vrijmarkt inclusief schminken voor kinderen en springkussens\n10.30 – 11.00 uur     Optocht met versierde fietsen\n11.00 – 12.00 uur     Buitenconcert AMDG\n11.00 – 11.30 uur     Vlag hijsen\, Wilhelmus\, aubade & korte toespraak burgemeester en\nvoorzitter Stichting Evenementen Wehl\n10.00 – 14.00 uur     Feestprogramma Ouderencentrum Oldershove\n10.00 – 13.00 uur     Oranje café in Lokaal 1816 (KBC)\n11.00 – 13.00 uur     Lasergamen\, IPS en X Wall in KBC\n \nMiddag- en avondprogramma\n12:00 – 20:00 uur  Feestprogramma Raadhuisplein\ngeorganiseerd door BEA bar en events \n– Optredens van diverse bands\n– Springkussens & afgesloten terrein voor kinderen\n– Gezellig ingericht terrein mét tent\, foodtruck en bar \n \nKraam huren? Meld je nu aan!\nWil je jouw spullen verkopen of je hobby presenteren?\nDat kan! Je huurt al een kraam voor slechts € 24\,50.\nStuur een mail naar: bestuur@stichtingwehl.nl.\nNa bevestiging ontvangt je dan een betaalverzoek.
URL:https://www.stichtingwehl.nl/evenement/koningsdag/
LOCATION:Wehl\, Gelderland\, 7031\, Netherlands
ATTACH;FMTTYPE=image/jpeg:https://www.stichtingwehl.nl/wp-content/uploads/2025/12/uitgelichtKoningsdag-scaled.jpg
ORGANIZER;CN="Stichting Wehl":MAILTO:bestuur@stichtingwehl.nl
END:VEVENT
BEGIN:VEVENT
DTSTART;TZID=Europe/Amsterdam:20260111T140000
DTEND;TZID=Europe/Amsterdam:20260111T170000
DTSTAMP:20260421T232032
CREATED:20251222T214602Z
LAST-MODIFIED:20260104T103042Z
UID:4041-1768140000-1768150800@www.stichtingwehl.nl
SUMMARY:Nieuwjaarsbijeenkomst
DESCRIPTION:Het nieuwe jaar samen beginnen? Dat doen we in Wehl en Nieuw Wehl! \n\n\nOp zondag 11 januari 2026 ben je van harte welkom bij de Nieuwjaarsbijeenkomst in Lokaal 1816.\n\nEen gezellige middag om elkaar te ontmoeten\, bij te praten en samen te proosten op 2026. \n\n\n\n Zondag 11 januari 2026\n 14.00 – 17.00 uur\n Lokaal 1816\, Kon. Wilhelminastraat 12\, Wehl\n\n\nVoor inwoners\, verenigingen\, ondernemers en iedereen die Wehl en Nieuw Wehl een warm hart toedraagt.\n\n\nDelen mag\, meenemen van buren en bekenden zeker! \n\n\nNamens:\nDorpsraad Wehl\, Stichting Evenementen Wehl\,\nWehlse Ondernemers Vereniging\, Stichting Beheer de Horst en Stichting Sport & Recreatie Wehl.
URL:https://www.stichtingwehl.nl/evenement/nieuwjaarsbijeenkomst/
LOCATION:Koningin Beatrixcentrum KBC Wehl – LOKAAL 1816\, Koningin Wilhelminastraat 12\, Wehl\, Gelderland\, 7031 AC\, Netherlands
ATTACH;FMTTYPE=image/jpeg:https://www.stichtingwehl.nl/wp-content/uploads/2025/12/uitgelichtNieuwjaarsbijeenkomst-scaled.jpg
ORGANIZER;CN="Stichting Wehl":MAILTO:bestuur@stichtingwehl.nl
END:VEVENT
END:VCALENDAR